{
 "currentVersion": 11.2,
 "cimVersion": "3.2.0",
 "serviceDescription": "",
 "mapName": "Map1",
 "description": "",
 "copyrightText": "",
 "supportsDynamicLayers": false,
 "layers": [
  {
   "id": 0,
   "name": "LULUCF_2023",
   "parentLayerId": -1,
   "defaultVisibility": true,
   "subLayerIds": null,
   "minScale": 0,
   "maxScale": 0,
   "type": "Raster Layer",
   "supportsDynamicLegends": true
  }
 ],
 "tables": [],
 "spatialReference": {
  "wkt2": "PROJCRS[\"ISN_1993_Lambert_Conformal_Conic\",BASEGEOGCRS[\"GCS_ISN_1993\",DATUM[\"D_Islands_Network_1993\",ELLIPSOID[\"GRS_1980\",6378137.0,298.257222101,LENGTHUNIT[\"Meter\",1.0]]],PRIMEM[\"Greenwich\",0.0,ANGLEUNIT[\"Degree\",0.0174532925199433]],CS[ellipsoidal,2],ANGLEUNIT[\"Degree\",0.0174532925199433]],CONVERSION[\"Lambert_Conformal_Conic\",METHOD[\"Lambert_Conformal_Conic\"],PARAMETER[\"False_Easting\",500000.0,LENGTHUNIT[\"Meter\",1.0]],PARAMETER[\"False_Northing\",500000.0,LENGTHUNIT[\"Meter\",1.0]],PARAMETER[\"Central_Meridian\",-19.0,ANGLEUNIT[\"Degree\",0.0174532925199433]],PARAMETER[\"Standard_Parallel_1\",64.25,ANGLEUNIT[\"Degree\",0.0174532925199433]],PARAMETER[\"Standard_Parallel_2\",65.75,ANGLEUNIT[\"Degree\",0.0174532925199433]],PARAMETER[\"Latitude_Of_Origin\",65.0,ANGLEUNIT[\"Degree\",0.0174532925199433]]],CS[Cartesian,2],AXIS[\"Easting (X)\",east,ORDER[1]],AXIS[\"Northing (Y)\",north,ORDER[2]],LENGTHUNIT[\"Meter\",1.0]]",
  "wkt": "PROJCS[\"ISN_1993_Lambert_Conformal_Conic\",GEOGCS[\"GCS_ISN_1993\",DATUM[\"D_Islands_Network_1993\",SPHEROID[\"GRS_1980\",6378137.0,298.257222101]],PRIMEM[\"Greenwich\",0.0],UNIT[\"Degree\",0.0174532925199433]],PROJECTION[\"Lambert_Conformal_Conic\"],PARAMETER[\"False_Easting\",500000.0],PARAMETER[\"False_Northing\",500000.0],PARAMETER[\"Central_Meridian\",-19.0],PARAMETER[\"Standard_Parallel_1\",64.25],PARAMETER[\"Standard_Parallel_2\",65.75],PARAMETER[\"Latitude_Of_Origin\",65.0],UNIT[\"Meter\",1.0]]",
  "xyTolerance": 0.001,
  "zTolerance": 0.001,
  "mTolerance": 0.001,
  "falseX": -34541500,
  "falseY": -31559400,
  "xyUnits": 10000,
  "falseZ": -100000,
  "zUnits": 10000,
  "falseM": -100000,
  "mUnits": 10000
 },
 "singleFusedMapCache": true,
 "tileInfo": {
  "rows": 256,
  "cols": 256,
  "dpi": 96,
  "format": "Mixed",
  "compressionQuality": 75,
  "origin": {
   "x": -3.454131801753869E7,
   "y": 3.777026667149625E7
  },
  "spatialReference": {
   "wkt2": "PROJCRS[\"ISN_1993_Lambert_Conformal_Conic\",BASEGEOGCRS[\"GCS_ISN_1993\",DATUM[\"D_Islands_Network_1993\",ELLIPSOID[\"GRS_1980\",6378137.0,298.257222101,LENGTHUNIT[\"Meter\",1.0]]],PRIMEM[\"Greenwich\",0.0,ANGLEUNIT[\"Degree\",0.0174532925199433]],CS[ellipsoidal,2],ANGLEUNIT[\"Degree\",0.0174532925199433]],CONVERSION[\"Lambert_Conformal_Conic\",METHOD[\"Lambert_Conformal_Conic\"],PARAMETER[\"False_Easting\",500000.0,LENGTHUNIT[\"Meter\",1.0]],PARAMETER[\"False_Northing\",500000.0,LENGTHUNIT[\"Meter\",1.0]],PARAMETER[\"Central_Meridian\",-19.0,ANGLEUNIT[\"Degree\",0.0174532925199433]],PARAMETER[\"Standard_Parallel_1\",64.25,ANGLEUNIT[\"Degree\",0.0174532925199433]],PARAMETER[\"Standard_Parallel_2\",65.75,ANGLEUNIT[\"Degree\",0.0174532925199433]],PARAMETER[\"Latitude_Of_Origin\",65.0,ANGLEUNIT[\"Degree\",0.0174532925199433]]],CS[Cartesian,2],AXIS[\"Easting (X)\",east,ORDER[1]],AXIS[\"Northing (Y)\",north,ORDER[2]],LENGTHUNIT[\"Meter\",1.0]]",
   "wkt": "PROJCS[\"ISN_1993_Lambert_Conformal_Conic\",GEOGCS[\"GCS_ISN_1993\",DATUM[\"D_Islands_Network_1993\",SPHEROID[\"GRS_1980\",6378137.0,298.257222101]],PRIMEM[\"Greenwich\",0.0],UNIT[\"Degree\",0.0174532925199433]],PROJECTION[\"Lambert_Conformal_Conic\"],PARAMETER[\"False_Easting\",500000.0],PARAMETER[\"False_Northing\",500000.0],PARAMETER[\"Central_Meridian\",-19.0],PARAMETER[\"Standard_Parallel_1\",64.25],PARAMETER[\"Standard_Parallel_2\",65.75],PARAMETER[\"Latitude_Of_Origin\",65.0],UNIT[\"Meter\",1.0]]",
   "xyTolerance": 0.001,
   "zTolerance": 0.001,
   "mTolerance": 0.001,
   "falseX": -34541500,
   "falseY": -31559400,
   "xyUnits": 10000,
   "falseZ": -100000,
   "zUnits": 10000,
   "falseM": -100000,
   "mUnits": 10000
  },
  "lods": [
   {
    "level": 0,
    "resolution": 273760.297012021,
    "scale": 1.0346845871320478E9
   },
   {
    "level": 1,
    "resolution": 136880.1485060105,
    "scale": 5.173422935660239E8
   },
   {
    "level": 2,
    "resolution": 68440.07425300525,
    "scale": 2.5867114678301194E8
   },
   {
    "level": 3,
    "resolution": 34220.037126502626,
    "scale": 1.2933557339150597E8
   },
   {
    "level": 4,
    "resolution": 17110.018563251313,
    "scale": 6.4667786695752986E7
   },
   {
    "level": 5,
    "resolution": 8555.009281625657,
    "scale": 3.2333893347876493E7
   },
   {
    "level": 6,
    "resolution": 4277.504640812828,
    "scale": 1.6166946673938246E7
   },
   {
    "level": 7,
    "resolution": 2138.752320406414,
    "scale": 8083473.336969123
   },
   {
    "level": 8,
    "resolution": 1069.376160203207,
    "scale": 4041736.6684845616
   },
   {
    "level": 9,
    "resolution": 534.6880801016035,
    "scale": 2020868.3342422808
   },
   {
    "level": 10,
    "resolution": 267.34404005080177,
    "scale": 1010434.1671211404
   },
   {
    "level": 11,
    "resolution": 133.67202002540088,
    "scale": 505217.0835605702
   },
   {
    "level": 12,
    "resolution": 66.83601001270044,
    "scale": 252608.5417802851
   },
   {
    "level": 13,
    "resolution": 33.41800500635022,
    "scale": 126304.27089014255
   },
   {
    "level": 14,
    "resolution": 16.70900250317511,
    "scale": 63152.135445071275
   },
   {
    "level": 15,
    "resolution": 8.354501251587555,
    "scale": 31576.067722535638
   },
   {
    "level": 16,
    "resolution": 4.177250625793778,
    "scale": 15788.033861267819
   },
   {
    "level": 17,
    "resolution": 2.088625312896889,
    "scale": 7894.016930633909
   },
   {
    "level": 18,
    "resolution": 1.0443126564484444,
    "scale": 3947.0084653169547
   }
  ]
 },
 "storageInfo": {
  "storageFormat": "esriMapCacheStorageModeCompactV2",
  "packetSize": 128
 },
 "initialExtent": {
  "xmin": 314587.47616022115,
  "ymin": 308895.291191304,
  "xmax": 732184.6676495839,
  "ymax": 712006.9507657731,
  "spatialReference": {
   "wkt2": "PROJCRS[\"ISN_1993_Lambert_Conformal_Conic\",BASEGEOGCRS[\"GCS_ISN_1993\",DATUM[\"D_Islands_Network_1993\",ELLIPSOID[\"GRS_1980\",6378137.0,298.257222101,LENGTHUNIT[\"Meter\",1.0]]],PRIMEM[\"Greenwich\",0.0,ANGLEUNIT[\"Degree\",0.0174532925199433]],CS[ellipsoidal,2],ANGLEUNIT[\"Degree\",0.0174532925199433]],CONVERSION[\"Lambert_Conformal_Conic\",METHOD[\"Lambert_Conformal_Conic\"],PARAMETER[\"False_Easting\",500000.0,LENGTHUNIT[\"Meter\",1.0]],PARAMETER[\"False_Northing\",500000.0,LENGTHUNIT[\"Meter\",1.0]],PARAMETER[\"Central_Meridian\",-19.0,ANGLEUNIT[\"Degree\",0.0174532925199433]],PARAMETER[\"Standard_Parallel_1\",64.25,ANGLEUNIT[\"Degree\",0.0174532925199433]],PARAMETER[\"Standard_Parallel_2\",65.75,ANGLEUNIT[\"Degree\",0.0174532925199433]],PARAMETER[\"Latitude_Of_Origin\",65.0,ANGLEUNIT[\"Degree\",0.0174532925199433]]],CS[Cartesian,2],AXIS[\"Easting (X)\",east,ORDER[1]],AXIS[\"Northing (Y)\",north,ORDER[2]],LENGTHUNIT[\"Meter\",1.0]]",
   "wkt": "PROJCS[\"ISN_1993_Lambert_Conformal_Conic\",GEOGCS[\"GCS_ISN_1993\",DATUM[\"D_Islands_Network_1993\",SPHEROID[\"GRS_1980\",6378137.0,298.257222101]],PRIMEM[\"Greenwich\",0.0],UNIT[\"Degree\",0.0174532925199433]],PROJECTION[\"Lambert_Conformal_Conic\"],PARAMETER[\"False_Easting\",500000.0],PARAMETER[\"False_Northing\",500000.0],PARAMETER[\"Central_Meridian\",-19.0],PARAMETER[\"Standard_Parallel_1\",64.25],PARAMETER[\"Standard_Parallel_2\",65.75],PARAMETER[\"Latitude_Of_Origin\",65.0],UNIT[\"Meter\",1.0]]",
   "xyTolerance": 0.001,
   "zTolerance": 0.001,
   "mTolerance": 0.001,
   "falseX": -34541500,
   "falseY": -31559400,
   "xyUnits": 10000,
   "falseZ": -100000,
   "zUnits": 10000,
   "falseM": -100000,
   "mUnits": 10000
  }
 },
 "fullExtent": {
  "xmin": 195564.50866238773,
  "ymin": 276971.6611954048,
  "xmax": 803439.5086623877,
  "ymax": 735861.6611954048,
  "spatialReference": {
   "wkt2": "PROJCRS[\"ISN_1993_Lambert_Conformal_Conic\",BASEGEOGCRS[\"GCS_ISN_1993\",DATUM[\"D_Islands_Network_1993\",ELLIPSOID[\"GRS_1980\",6378137.0,298.257222101,LENGTHUNIT[\"Meter\",1.0]]],PRIMEM[\"Greenwich\",0.0,ANGLEUNIT[\"Degree\",0.0174532925199433]],CS[ellipsoidal,2],ANGLEUNIT[\"Degree\",0.0174532925199433]],CONVERSION[\"Lambert_Conformal_Conic\",METHOD[\"Lambert_Conformal_Conic\"],PARAMETER[\"False_Easting\",500000.0,LENGTHUNIT[\"Meter\",1.0]],PARAMETER[\"False_Northing\",500000.0,LENGTHUNIT[\"Meter\",1.0]],PARAMETER[\"Central_Meridian\",-19.0,ANGLEUNIT[\"Degree\",0.0174532925199433]],PARAMETER[\"Standard_Parallel_1\",64.25,ANGLEUNIT[\"Degree\",0.0174532925199433]],PARAMETER[\"Standard_Parallel_2\",65.75,ANGLEUNIT[\"Degree\",0.0174532925199433]],PARAMETER[\"Latitude_Of_Origin\",65.0,ANGLEUNIT[\"Degree\",0.0174532925199433]]],CS[Cartesian,2],AXIS[\"Easting (X)\",east,ORDER[1]],AXIS[\"Northing (Y)\",north,ORDER[2]],LENGTHUNIT[\"Meter\",1.0]]",
   "wkt": "PROJCS[\"ISN_1993_Lambert_Conformal_Conic\",GEOGCS[\"GCS_ISN_1993\",DATUM[\"D_Islands_Network_1993\",SPHEROID[\"GRS_1980\",6378137.0,298.257222101]],PRIMEM[\"Greenwich\",0.0],UNIT[\"Degree\",0.0174532925199433]],PROJECTION[\"Lambert_Conformal_Conic\"],PARAMETER[\"False_Easting\",500000.0],PARAMETER[\"False_Northing\",500000.0],PARAMETER[\"Central_Meridian\",-19.0],PARAMETER[\"Standard_Parallel_1\",64.25],PARAMETER[\"Standard_Parallel_2\",65.75],PARAMETER[\"Latitude_Of_Origin\",65.0],UNIT[\"Meter\",1.0]]",
   "xyTolerance": 0.001,
   "zTolerance": 0.001,
   "mTolerance": 0.001,
   "falseX": -34541500,
   "falseY": -31559400,
   "xyUnits": 10000,
   "falseZ": -100000,
   "zUnits": 10000,
   "falseM": -100000,
   "mUnits": 10000
  }
 },
 "datesInUnknownTimezone": false,
 "units": "esriMeters",
 "supportedImageFormatTypes": "PNG32,PNG24,PNG,JPG,DIB,TIFF,EMF,PS,PDF,GIF,SVG,SVGZ,BMP",
 "documentInfo": {
  "Title": "Map1",
  "Author": "",
  "Comments": "",
  "Subject": "",
  "Category": "",
  "Version": "3.2.0",
  "AntialiasingMode": "None",
  "TextAntialiasingMode": "Force",
  "Keywords": ""
 },
 "supportsQueryDomains": true,
 "supportedQueryFormats": "JSON, geoJSON, PBF",
 "referenceScale": 0.0,
 "datumTransformations": [
  {
   "geoTransforms": [
    {
     "wkid": 1952,
     "latestWkid": 1952,
     "transformForward": false,
     "name": "ISN_1993_To_WGS_1984_1"
    }
   ]
  },
  {
   "geoTransforms": [
    {
     "wkid": 1952,
     "latestWkid": 1952,
     "transformForward": true,
     "name": "ISN_1993_To_WGS_1984_1"
    }
   ]
  },
  {
   "geoTransforms": [
    {
     "wkid": 1952,
     "latestWkid": 1952,
     "transformForward": false,
     "name": "ISN_1993_To_WGS_1984_1"
    }
   ]
  },
  {
   "geoTransforms": [
    {
     "wkid": 1952,
     "latestWkid": 1952,
     "transformForward": true,
     "name": "ISN_1993_To_WGS_1984_1"
    }
   ]
  }
 ],
 "supportsDatumTransformation": true,
 "archivingInfo": {
  "supportsHistoricMoment": false
 },
 "supportsClipping": true,
 "supportsSpatialFilter": true,
 "supportsTimeRelation": true,
 "supportsQueryDataElements": true,
 "mapUnits": {
  "uwkid": 9001
 },
 "maxRecordCount": 1000,
 "maxImageHeight": 4096,
 "maxImageWidth": 4096,
 "capabilities": "TilesOnly,Tilemap",
 "minScale": 4041736,
 "maxScale": 126304,
 "exportTilesAllowed": false,
 "maxExportTilesCount": 100000,
 "minLOD": 8,
 "maxLOD": 13,
 "supportedExtensions": "",
 "serviceItemId": "7ce6d3c37fb94a609af8bb44b9dbc0bb"
}
