View In:
ArcGIS JavaScript
ArcGIS Online Map Viewer
ArcGIS Earth
ArcGIS Pro
Service Description: Heildarúttekt á jarðvegsrofi á öllu Íslandi, unnin á árunum 1992-1997. Unnið með vettvangsúttekt þar sem LANDSAT gervitunglamyndir í mælikvarða 1:100.000 voru notaðar sem grunnur við kortlagninguna. Í rofkortlagningunni er annars vegar metið um hvers konar rof er að ræða (rofflokkar) og hins vegar hversu mikið það er (rofkvarði). Rofkvarðinn er frá 0 og upp í 5 þar sem 0 þýðir ekkert rof en 5 stendur fyrir mjög mikið rof. Rofflokkunum má skipta í tvo hluta, annars vegar þeir sem tengjast gróðurlendum þ.e.; áfoksgeirar (A), rofabörð (B), dílarof (D), jarðsil (J), skriður (K) og vatnsrof (V), og hins vegar rofflokkar á auðnum sem eru; melar (M), sandar (S), sandmelar (SM), sandhraun (SH), hraun (H), moldir (O) og grjótskriður (C).
Nánari upplýsingar um einstakar rofgerðir má finna í bókinni Jarðvegsrof á Íslandi. (Ólafur Arnalds, Elín Fjóla Þórarinsdóttir, Sigmar Metúsalemsson, Ásgeir Jónsson, Einar Grétarsson & Arnór Árnason, 1997. Landgræðsla ríkisins og Rannsóknastofnun Landbúnaðarins).Sjá http://land.is/wp-content/uploads/2015/11/Jardvegsrof_islenska.pdfIn English http://land.is/wp-content/uploads/2015/11/Jardvegsrof_enska_Soil_Erosion.pdf
Skráð skv. fitjuskrá Jarðvegsrof_1utg_20181204.
Map Name: Rofkort
Legend
All Layers and Tables
Dynamic Legend
Dynamic All Layers
Layers:
Description:
Service Item Id: 74a943ce1d1348f2b6b6343719e6699f
Copyright Text: © Landgræðslan og Landbúnaðarháskóli Íslands
Spatial Reference:
102100
(3857)
Single Fused Map Cache: true
Tile Info:
- Height: 256
- Width: 256
- DPI: 96
-
Levels of Detail: 24
-
Level ID: 1
[ Start Tile, End Tile ]
- Resolution: 78271.5169639999
- Scale: 2.95828763795777E8
-
Level ID: 2
[ Start Tile, End Tile ]
- Resolution: 39135.7584820001
- Scale: 1.47914381897889E8
-
Level ID: 3
[ Start Tile, End Tile ]
- Resolution: 19567.8792409999
- Scale: 7.3957190948944E7
-
Level ID: 4
[ Start Tile, End Tile ]
- Resolution: 9783.93962049996
- Scale: 3.6978595474472E7
-
Level ID: 5
[ Start Tile, End Tile ]
- Resolution: 4891.96981024998
- Scale: 1.8489297737236E7
- Format: PNG
- Compression Quality: 0.0
- Origin: X: -2.0037508342787E7
Y: 2.0037508342787E7
- Spatial Reference: 102100
(3857)
Storage Info:
- Storage Format: esriMapCacheStorageModeCompactV2
- Packet Size: 128
Initial Extent:
XMin: -2510809.5744184908
YMin: 8947118.646255007
XMax: -1712211.294494003
YMax: 1.0232318028642444E7
Spatial Reference: 102100
(3857)
Full Extent:
XMin: -2730820.9285000004
YMin: 9197700.383299999
XMax: -1501741.1385000013
YMax: 1.00256258028E7
Spatial Reference: 102100
(3857)
Units: esriMeters
Supported Image Format Types: PNG32,PNG24,PNG,JPG,DIB,TIFF,EMF,PS,PDF,GIF,SVG,SVGZ,BMP
Document Info:
Title: Map
Author:
Comments:
Subject:
Category:
Keywords: Rofkort,Jarðvegur,Rala
AntialiasingMode: Fast
TextAntialiasingMode: Force
Supports Dynamic Layers: true
MaxRecordCount: 2000
MaxImageHeight: 4096
MaxImageWidth: 4096
Supported Query Formats: JSON, geoJSON, PBF
Supports Query Data Elements: true
Min Scale: 3.6978595474472E7
Max Scale: 18055.954822
Min LOD: 4
Max LOD: 15
Supports Datum Transformation: true
Child Resources:
Info
Dynamic Layer
Supported Operations:
Export Map
Identify
QueryLegends
QueryDomains
Find
EstimateExportTilesSize
ExportTiles
Return Updates