View In:
ArcGIS JavaScript
ArcGIS Online Map Viewer
ArcGIS Earth
ArcGIS Pro
Service Description:
Map Name: Map
Legend
All Layers and Tables
Dynamic Legend
Dynamic All Layers
Layers:
Description:
Service Item Id: 640f1d0abb9947a7834acfb893c59280
Copyright Text:
Spatial Reference:
3057
(3057)
Single Fused Map Cache: true
Tile Info:
- Height: 256
- Width: 256
- DPI: 96
-
Levels of Detail: 19
-
Level ID: 0
[ Start Tile, End Tile ]
- Resolution: 273760.297012021
- Scale: 1.0346845871320478E9
-
Level ID: 1
[ Start Tile, End Tile ]
- Resolution: 136880.1485060105
- Scale: 5.173422935660239E8
-
Level ID: 2
[ Start Tile, End Tile ]
- Resolution: 68440.07425300525
- Scale: 2.5867114678301194E8
-
Level ID: 3
[ Start Tile, End Tile ]
- Resolution: 34220.037126502626
- Scale: 1.2933557339150597E8
-
Level ID: 4
[ Start Tile, End Tile ]
- Resolution: 17110.018563251313
- Scale: 6.4667786695752986E7
-
Level ID: 5
[ Start Tile, End Tile ]
- Resolution: 8555.009281625657
- Scale: 3.2333893347876493E7
-
Level ID: 6
[ Start Tile, End Tile ]
- Resolution: 4277.504640812828
- Scale: 1.6166946673938246E7
-
Level ID: 7
[ Start Tile, End Tile ]
- Resolution: 2138.752320406414
- Scale: 8083473.336969123
-
Level ID: 8
[ Start Tile, End Tile ]
- Resolution: 1069.376160203207
- Scale: 4041736.6684845616
-
Level ID: 9
[ Start Tile, End Tile ]
- Resolution: 534.6880801016035
- Scale: 2020868.3342422808
-
Level ID: 10
[ Start Tile, End Tile ]
- Resolution: 267.34404005080177
- Scale: 1010434.1671211404
-
Level ID: 11
[ Start Tile, End Tile ]
- Resolution: 133.67202002540088
- Scale: 505217.0835605702
-
Level ID: 12
[ Start Tile, End Tile ]
- Resolution: 66.83601001270044
- Scale: 252608.5417802851
-
Level ID: 13
[ Start Tile, End Tile ]
- Resolution: 33.41800500635022
- Scale: 126304.27089014255
-
Level ID: 14
[ Start Tile, End Tile ]
- Resolution: 16.70900250317511
- Scale: 63152.135445071275
-
Level ID: 15
[ Start Tile, End Tile ]
- Resolution: 8.354501251587555
- Scale: 31576.067722535638
-
Level ID: 16
[ Start Tile, End Tile ]
- Resolution: 4.177250625793778
- Scale: 15788.033861267819
-
Level ID: 17
[ Start Tile, End Tile ]
- Resolution: 2.088625312896889
- Scale: 7894.016930633909
-
Level ID: 18
[ Start Tile, End Tile ]
- Resolution: 1.0443126564484444
- Scale: 3947.0084653169547
- Format: PNG
- Compression Quality: 0.0
- Origin: X: -3.454131801753869E7
Y: 3.777026667149625E7
- Spatial Reference: 3057
(3057)
Storage Info:
- Storage Format: esriMapCacheStorageModeCompactV2
- Packet Size: 128
Initial Extent:
XMin: 227798.87533832446
YMin: 227737.5035741161
XMax: 778178.7226083268
YMax: 765735.8013046626
Spatial Reference: 3057
(3057)
Full Extent:
XMin: 252816.14112332463
YMin: 322464.02153938636
XMax: 753161.4568233266
YMax: 671009.2833393924
Spatial Reference: 3057
(3057)
Units: esriMeters
Supported Image Format Types: PNG32,PNG24,PNG,JPG,DIB,TIFF,EMF,PS,PDF,GIF,SVG,SVGZ,BMP
Document Info:
Title: Map
Author:
Comments:
Subject:
Category:
Keywords: Skurdir,Peatland
AntialiasingMode: Fast
TextAntialiasingMode: Force
Supports Dynamic Layers: true
MaxRecordCount: 2000
MaxImageHeight: 4096
MaxImageWidth: 4096
Supported Query Formats: JSON, geoJSON, PBF
Supports Query Data Elements: true
Min Scale: 1.6166946673938246E7
Max Scale: 7894.016930633909
Min LOD: 6
Max LOD: 17
Supports Datum Transformation: true
Child Resources:
Info
Dynamic Layer
Supported Operations:
Export Map
QueryLegends
Return Updates