View In:
ArcGIS JavaScript
ArcGIS Online Map Viewer
ArcGIS Earth
ArcGIS Pro
Service Description:
Map Name: Map1
Legend
All Layers and Tables
Layers:
Description:
Service Item Id: 7ce6d3c37fb94a609af8bb44b9dbc0bb
Copyright Text:
Spatial Reference:
PROJCS["ISN_1993_Lambert_Conformal_Conic",GEOGCS["GCS_ISN_1993",DATUM["D_Islands_Network_1993",SPHEROID["GRS_1980",6378137.0,298.257222101]],PRIMEM["Greenwich",0.0],UNIT["Degree",0.0174532925199433]],PROJECTION["Lambert_Conformal_Conic"],PARAMETER["False_Easting",500000.0],PARAMETER["False_Northing",500000.0],PARAMETER["Central_Meridian",-19.0],PARAMETER["Standard_Parallel_1",64.25],PARAMETER["Standard_Parallel_2",65.75],PARAMETER["Latitude_Of_Origin",65.0],UNIT["Meter",1.0]]
Single Fused Map Cache: true
Tile Info:
- Height: 256
- Width: 256
- DPI: 96
-
Levels of Detail: 19
-
Level ID: 0
[ Start Tile, End Tile ]
- Resolution: 273760.297012021
- Scale: 1.0346845871320478E9
-
Level ID: 1
[ Start Tile, End Tile ]
- Resolution: 136880.1485060105
- Scale: 5.173422935660239E8
-
Level ID: 2
[ Start Tile, End Tile ]
- Resolution: 68440.07425300525
- Scale: 2.5867114678301194E8
-
Level ID: 3
[ Start Tile, End Tile ]
- Resolution: 34220.037126502626
- Scale: 1.2933557339150597E8
-
Level ID: 4
[ Start Tile, End Tile ]
- Resolution: 17110.018563251313
- Scale: 6.4667786695752986E7
-
Level ID: 5
[ Start Tile, End Tile ]
- Resolution: 8555.009281625657
- Scale: 3.2333893347876493E7
-
Level ID: 6
[ Start Tile, End Tile ]
- Resolution: 4277.504640812828
- Scale: 1.6166946673938246E7
-
Level ID: 7
[ Start Tile, End Tile ]
- Resolution: 2138.752320406414
- Scale: 8083473.336969123
-
Level ID: 8
[ Start Tile, End Tile ]
- Resolution: 1069.376160203207
- Scale: 4041736.6684845616
-
Level ID: 9
[ Start Tile, End Tile ]
- Resolution: 534.6880801016035
- Scale: 2020868.3342422808
-
Level ID: 10
[ Start Tile, End Tile ]
- Resolution: 267.34404005080177
- Scale: 1010434.1671211404
-
Level ID: 11
[ Start Tile, End Tile ]
- Resolution: 133.67202002540088
- Scale: 505217.0835605702
-
Level ID: 12
[ Start Tile, End Tile ]
- Resolution: 66.83601001270044
- Scale: 252608.5417802851
-
Level ID: 13
[ Start Tile, End Tile ]
- Resolution: 33.41800500635022
- Scale: 126304.27089014255
-
Level ID: 14
[ Start Tile, End Tile ]
- Resolution: 16.70900250317511
- Scale: 63152.135445071275
-
Level ID: 15
[ Start Tile, End Tile ]
- Resolution: 8.354501251587555
- Scale: 31576.067722535638
-
Level ID: 16
[ Start Tile, End Tile ]
- Resolution: 4.177250625793778
- Scale: 15788.033861267819
-
Level ID: 17
[ Start Tile, End Tile ]
- Resolution: 2.088625312896889
- Scale: 7894.016930633909
-
Level ID: 18
[ Start Tile, End Tile ]
- Resolution: 1.0443126564484444
- Scale: 3947.0084653169547
- Format: Mixed
- Compression Quality: 75.0
- Origin: X: -3.454131801753869E7
Y: 3.777026667149625E7
- Spatial Reference: PROJCS["ISN_1993_Lambert_Conformal_Conic",GEOGCS["GCS_ISN_1993",DATUM["D_Islands_Network_1993",SPHEROID["GRS_1980",6378137.0,298.257222101]],PRIMEM["Greenwich",0.0],UNIT["Degree",0.0174532925199433]],PROJECTION["Lambert_Conformal_Conic"],PARAMETER["False_Easting",500000.0],PARAMETER["False_Northing",500000.0],PARAMETER["Central_Meridian",-19.0],PARAMETER["Standard_Parallel_1",64.25],PARAMETER["Standard_Parallel_2",65.75],PARAMETER["Latitude_Of_Origin",65.0],UNIT["Meter",1.0]]
Storage Info:
- Storage Format: esriMapCacheStorageModeCompactV2
- Packet Size: 128
Initial Extent:
XMin: 314587.47616022115
YMin: 308895.291191304
XMax: 732184.6676495839
YMax: 712006.9507657731
Spatial Reference: PROJCS["ISN_1993_Lambert_Conformal_Conic",GEOGCS["GCS_ISN_1993",DATUM["D_Islands_Network_1993",SPHEROID["GRS_1980",6378137.0,298.257222101]],PRIMEM["Greenwich",0.0],UNIT["Degree",0.0174532925199433]],PROJECTION["Lambert_Conformal_Conic"],PARAMETER["False_Easting",500000.0],PARAMETER["False_Northing",500000.0],PARAMETER["Central_Meridian",-19.0],PARAMETER["Standard_Parallel_1",64.25],PARAMETER["Standard_Parallel_2",65.75],PARAMETER["Latitude_Of_Origin",65.0],UNIT["Meter",1.0]]
Full Extent:
XMin: 195564.50866238773
YMin: 276971.6611954048
XMax: 803439.5086623877
YMax: 735861.6611954048
Spatial Reference: PROJCS["ISN_1993_Lambert_Conformal_Conic",GEOGCS["GCS_ISN_1993",DATUM["D_Islands_Network_1993",SPHEROID["GRS_1980",6378137.0,298.257222101]],PRIMEM["Greenwich",0.0],UNIT["Degree",0.0174532925199433]],PROJECTION["Lambert_Conformal_Conic"],PARAMETER["False_Easting",500000.0],PARAMETER["False_Northing",500000.0],PARAMETER["Central_Meridian",-19.0],PARAMETER["Standard_Parallel_1",64.25],PARAMETER["Standard_Parallel_2",65.75],PARAMETER["Latitude_Of_Origin",65.0],UNIT["Meter",1.0]]
Units: esriMeters
Supported Image Format Types: PNG32,PNG24,PNG,JPG,DIB,TIFF,EMF,PS,PDF,GIF,SVG,SVGZ,BMP
Document Info:
Title: Map1
Author:
Comments:
Subject:
Category:
Keywords:
AntialiasingMode: None
TextAntialiasingMode: Force
Supports Dynamic Layers: false
MaxRecordCount: 1000
MaxImageHeight: 4096
MaxImageWidth: 4096
Supported Query Formats: JSON, geoJSON, PBF
Supports Query Data Elements: true
Min Scale: 4041736
Max Scale: 126304
Min LOD: 8
Max LOD: 13
Supports Datum Transformation: true
Child Resources:
Info
Supported Operations:
QueryLegends
Return Updates